Package: ExploreModelMatrix Version: 1.19.2 Command: chmod a+r ExploreModelMatrix -R && E:\biocbuild\bbs-3.21-bioc\R\bin\R.exe CMD build --keep-empty-dirs --no-resave-data ExploreModelMatrix StartedAt: 2025-02-09 18:39:43 -0500 (Sun, 09 Feb 2025) EndedAt: 2025-02-09 18:40:07 -0500 (Sun, 09 Feb 2025) EllapsedTime: 24.4 seconds RetCode: 0 Status: OK PackageFile: ExploreModelMatrix_1.19.2.tar.gz PackageFileSize: 2.424 MiB