Package: ExpressionAtlas Version: 1.35.0 Command: /Library/Frameworks/R.framework/Resources/bin/R CMD build --keep-empty-dirs --no-resave-data ExpressionAtlas StartedAt: 2025-02-09 16:18:12 -0500 (Sun, 09 Feb 2025) EndedAt: 2025-02-09 16:18:26 -0500 (Sun, 09 Feb 2025) EllapsedTime: 13.2 seconds RetCode: 0 Status: OK PackageFile: ExpressionAtlas_1.35.0.tar.gz PackageFileSize: 319.2 KiB