Package: ExpressionAtlas Version: 1.35.0 Command: /Library/Frameworks/R.framework/Resources/bin/R CMD INSTALL ExpressionAtlas StartedAt: 2025-02-09 15:15:58 -0500 (Sun, 09 Feb 2025) EndedAt: 2025-02-09 15:16:07 -0500 (Sun, 09 Feb 2025) EllapsedTime: 9.7 seconds RetCode: 0 Status: OK