Package: ExpressionAtlas Version: 1.35.0 Command: /Library/Frameworks/R.framework/Resources/bin/R CMD check --install=check:ExpressionAtlas.install-out.txt --library=/Library/Frameworks/R.framework/Resources/library --no-vignettes --timings ExpressionAtlas_1.35.0.tar.gz StartedAt: 2025-02-09 20:39:20 -0500 (Sun, 09 Feb 2025) EndedAt: 2025-02-09 20:43:36 -0500 (Sun, 09 Feb 2025) EllapsedTime: 256.4 seconds RetCode: 0 Status: OK CheckDir: ExpressionAtlas.Rcheck Warnings: 0