Package: ExpressionAtlas Version: 1.35.0 Command: /home/biocbuild/bbs-3.21-bioc/R/bin/R CMD build --keep-empty-dirs --no-resave-data ExpressionAtlas StartedAt: 2025-02-09 17:13:00 -0500 (Sun, 09 Feb 2025) EndedAt: 2025-02-09 17:13:33 -0500 (Sun, 09 Feb 2025) EllapsedTime: 33.2 seconds RetCode: 0 Status: OK PackageFile: ExpressionAtlas_1.35.0.tar.gz PackageFileSize: 318.9 KiB