Package: ExpressionAtlas Version: 1.35.0 Command: /home/biocbuild/bbs-3.21-bioc/R/bin/R CMD check --install=check:ExpressionAtlas.install-out.txt --library=/home/biocbuild/bbs-3.21-bioc/R/site-library --timings ExpressionAtlas_1.35.0.tar.gz StartedAt: 2025-02-09 22:14:55 -0500 (Sun, 09 Feb 2025) EndedAt: 2025-02-09 22:18:21 -0500 (Sun, 09 Feb 2025) EllapsedTime: 206.4 seconds RetCode: 0 Status: OK CheckDir: ExpressionAtlas.Rcheck Warnings: 0