Package: ExpressionAtlas Version: 1.35.0 Command: /home/biocbuild/bbs-3.21-bioc/R/bin/R CMD INSTALL ExpressionAtlas StartedAt: 2025-02-09 15:49:12 -0500 (Sun, 09 Feb 2025) EndedAt: 2025-02-09 15:49:35 -0500 (Sun, 09 Feb 2025) EllapsedTime: 23.4 seconds RetCode: 0 Status: OK