Package: ExpressionAtlas Version: 1.35.0 Command: E:\biocbuild\bbs-3.21-bioc\R\bin\R.exe CMD INSTALL ExpressionAtlas StartedAt: 2025-02-09 16:10:02 -0500 (Sun, 09 Feb 2025) EndedAt: 2025-02-09 16:10:37 -0500 (Sun, 09 Feb 2025) EllapsedTime: 35.5 seconds RetCode: 0 Status: OK