Package: FEAST Version: 1.15.0 Command: rm -rf FEAST.buildbin-libdir && mkdir FEAST.buildbin-libdir && /Users/biocbuild/BBS/utils/build-universal.sh FEAST_1.15.0.tar.gz /Library/Frameworks/R.framework/Resources/bin/R FEAST.buildbin-libdir StartedAt: 2025-02-10 00:53:22 -0500 (Mon, 10 Feb 2025) EndedAt: 2025-02-10 00:54:08 -0500 (Mon, 10 Feb 2025) EllapsedTime: 46.5 seconds RetCode: 0 Status: OK PackageFile: FEAST_1.15.0.tgz PackageFileSize: 4.492 MiB