Package: FEAST Version: 1.15.0 Command: /Library/Frameworks/R.framework/Resources/bin/R CMD INSTALL FEAST StartedAt: 2025-02-09 15:26:22 -0500 (Sun, 09 Feb 2025) EndedAt: 2025-02-09 15:27:05 -0500 (Sun, 09 Feb 2025) EllapsedTime: 42.4 seconds RetCode: 0 Status: OK