Package: FEAST Version: 1.15.0 Command: /home/biocbuild/bbs-3.21-bioc/R/bin/R CMD check --install=check:FEAST.install-out.txt --library=/home/biocbuild/bbs-3.21-bioc/R/site-library --timings FEAST_1.15.0.tar.gz StartedAt: 2025-02-09 22:17:44 -0500 (Sun, 09 Feb 2025) EndedAt: 2025-02-09 22:21:43 -0500 (Sun, 09 Feb 2025) EllapsedTime: 239.3 seconds RetCode: 0 Status: OK CheckDir: FEAST.Rcheck Warnings: 0