Package: FEAST Version: 1.15.0 Command: rm -rf FEAST.buildbin-libdir && mkdir FEAST.buildbin-libdir && E:\biocbuild\bbs-3.21-bioc\R\bin\R.exe CMD INSTALL --build --library=FEAST.buildbin-libdir FEAST_1.15.0.tar.gz StartedAt: 2025-02-10 07:44:41 -0500 (Mon, 10 Feb 2025) EndedAt: 2025-02-10 07:45:28 -0500 (Mon, 10 Feb 2025) EllapsedTime: 46.5 seconds RetCode: 0 Status: OK PackageFile: FEAST_1.15.0.zip PackageFileSize: 4.412 MiB