Package: FEAST Version: 1.15.0 Command: chmod a+r FEAST -R && E:\biocbuild\bbs-3.21-bioc\R\bin\R.exe CMD build --keep-empty-dirs --no-resave-data FEAST StartedAt: 2025-02-09 18:41:48 -0500 (Sun, 09 Feb 2025) EndedAt: 2025-02-09 18:42:58 -0500 (Sun, 09 Feb 2025) EllapsedTime: 69.6 seconds RetCode: 0 Status: OK PackageFile: FEAST_1.15.0.tar.gz PackageFileSize: 3.373 MiB