Package: FEAST Version: 1.15.0 Command: E:\biocbuild\bbs-3.21-bioc\R\bin\R.exe CMD check --no-multiarch --install=check:FEAST.install-out.txt --library=E:\biocbuild\bbs-3.21-bioc\R\library --no-vignettes --timings FEAST_1.15.0.tar.gz StartedAt: 2025-02-05 01:33:12 -0500 (Wed, 05 Feb 2025) EndedAt: 2025-02-05 01:36:59 -0500 (Wed, 05 Feb 2025) EllapsedTime: 226.9 seconds RetCode: 0 Status: OK CheckDir: FEAST.Rcheck Warnings: 0