Package: FELLA Version: 1.27.0 Command: /home/biocbuild/R/R/bin/R CMD build --keep-empty-dirs --no-resave-data FELLA StartedAt: 2025-01-28 22:53:03 -0000 (Tue, 28 Jan 2025) EndedAt: 2025-01-28 23:33:04 -0000 (Tue, 28 Jan 2025) EllapsedTime: 2400.9 seconds RetCode: None Status: TIMEOUT PackageFile: None PackageFileSize: NA