Package: FELLA Version: 1.27.0 Command: /home/biocbuild/R/R/bin/R CMD INSTALL FELLA StartedAt: 2025-01-29 19:39:00 -0000 (Wed, 29 Jan 2025) EndedAt: 2025-01-29 19:39:21 -0000 (Wed, 29 Jan 2025) EllapsedTime: 21.2 seconds RetCode: 0 Status: OK