Package: FELLA Version: 1.27.0 Command: rm -rf FELLA.buildbin-libdir && mkdir FELLA.buildbin-libdir && /Users/biocbuild/BBS/utils/build-universal.sh FELLA_1.27.0.tar.gz /Library/Frameworks/R.framework/Resources/bin/R FELLA.buildbin-libdir StartedAt: 2025-02-10 00:53:24 -0500 (Mon, 10 Feb 2025) EndedAt: 2025-02-10 00:53:49 -0500 (Mon, 10 Feb 2025) EllapsedTime: 25.5 seconds RetCode: 0 Status: OK PackageFile: FELLA_1.27.0.tgz PackageFileSize: 3.936 MiB