Package: FELLA Version: 1.27.0 Command: /Library/Frameworks/R.framework/Resources/bin/R CMD check --install=check:FELLA.install-out.txt --library=/Library/Frameworks/R.framework/Resources/library --no-vignettes --timings FELLA_1.27.0.tar.gz StartedAt: 2025-02-09 20:41:44 -0500 (Sun, 09 Feb 2025) EndedAt: 2025-02-09 20:45:23 -0500 (Sun, 09 Feb 2025) EllapsedTime: 219.4 seconds RetCode: 0 Status: OK CheckDir: FELLA.Rcheck Warnings: 0