Package: FELLA Version: 1.27.0 Command: chmod a+r FELLA -R && E:\biocbuild\bbs-3.21-bioc\R\bin\R.exe CMD build --keep-empty-dirs --no-resave-data FELLA StartedAt: 2025-02-09 18:42:03 -0500 (Sun, 09 Feb 2025) EndedAt: 2025-02-09 19:08:07 -0500 (Sun, 09 Feb 2025) EllapsedTime: 1563.5 seconds RetCode: 0 Status: OK PackageFile: FELLA_1.27.0.tar.gz PackageFileSize: 3.435 MiB