Package: FELLA Version: 1.27.0 Command: E:\biocbuild\bbs-3.21-bioc\R\bin\R.exe CMD INSTALL FELLA StartedAt: 2025-02-09 15:40:05 -0500 (Sun, 09 Feb 2025) EndedAt: 2025-02-09 15:40:46 -0500 (Sun, 09 Feb 2025) EllapsedTime: 41.3 seconds RetCode: 0 Status: OK