Package: FGNet Version: 3.41.0 Command: /Library/Frameworks/R.framework/Resources/bin/R CMD build --keep-empty-dirs --no-resave-data FGNet StartedAt: 2025-02-09 16:19:31 -0500 (Sun, 09 Feb 2025) EndedAt: 2025-02-09 16:19:39 -0500 (Sun, 09 Feb 2025) EllapsedTime: 8.1 seconds RetCode: 0 Status: OK PackageFile: FGNet_3.41.0.tar.gz PackageFileSize: 2.721 MiB