Package: FGNet Version: 3.41.0 Command: /Library/Frameworks/R.framework/Resources/bin/R CMD INSTALL FGNet StartedAt: 2025-02-04 15:04:02 -0500 (Tue, 04 Feb 2025) EndedAt: 2025-02-04 15:04:05 -0500 (Tue, 04 Feb 2025) EllapsedTime: 3.6 seconds RetCode: 0 Status: OK