Package: FGNet Version: 3.41.0 Command: /home/biocbuild/R/R/bin/R CMD INSTALL FGNet StartedAt: 2025-01-29 19:36:42 -0000 (Wed, 29 Jan 2025) EndedAt: 2025-01-29 19:37:02 -0000 (Wed, 29 Jan 2025) EllapsedTime: 19.7 seconds RetCode: 0 Status: OK