Package: FGNet Version: 3.41.0 Command: rm -rf FGNet.buildbin-libdir && mkdir FGNet.buildbin-libdir && /Users/biocbuild/BBS/utils/build-universal.sh FGNet_3.41.0.tar.gz /Library/Frameworks/R.framework/Resources/bin/R FGNet.buildbin-libdir StartedAt: 2025-02-10 00:53:27 -0500 (Mon, 10 Feb 2025) EndedAt: 2025-02-10 00:53:40 -0500 (Mon, 10 Feb 2025) EllapsedTime: 12.8 seconds RetCode: 0 Status: OK PackageFile: FGNet_3.41.0.tgz PackageFileSize: 1.689 MiB