Package: FISHalyseR Version: 1.41.0 Command: /Library/Frameworks/R.framework/Resources/bin/R CMD INSTALL FISHalyseR StartedAt: 2025-02-12 15:27:35 -0500 (Wed, 12 Feb 2025) EndedAt: 2025-02-12 15:27:43 -0500 (Wed, 12 Feb 2025) EllapsedTime: 7.1 seconds RetCode: 0 Status: OK