Package: FLAMES Version: 2.1.5 Maintainer: Changqing Wang MaintainerEmail: wang.ch at wehi.edu.au git_url: https://git.bioconductor.org/packages/FLAMES git_branch: devel git_last_commit: c84efd0 git_last_commit_date: 2025-02-04 19:55:29 -0500 (Tue, 04 Feb 2025)