Package: FLAMES Version: 2.1.4 Command: rm -rf FLAMES.buildbin-libdir && mkdir FLAMES.buildbin-libdir && /Users/biocbuild/BBS/utils/build-universal.sh FLAMES_2.1.4.tar.gz /Library/Frameworks/R.framework/Resources/bin/R FLAMES.buildbin-libdir StartedAt: 2025-02-03 22:50:22 -0500 (Mon, 03 Feb 2025) EndedAt: 2025-02-03 22:51:04 -0500 (Mon, 03 Feb 2025) EllapsedTime: 41.9 seconds RetCode: 0 Status: OK PackageFile: FLAMES_2.1.4.tgz PackageFileSize: 4.969 MiB