Package: FLAMES Version: 2.1.5 Command: /Library/Frameworks/R.framework/Resources/bin/R CMD build --keep-empty-dirs --no-resave-data FLAMES StartedAt: 2025-02-09 16:19:56 -0500 (Sun, 09 Feb 2025) EndedAt: 2025-02-09 16:21:18 -0500 (Sun, 09 Feb 2025) EllapsedTime: 81.9 seconds RetCode: 0 Status: OK PackageFile: FLAMES_2.1.5.tar.gz PackageFileSize: 3.919 MiB