Package: FLAMES Version: 2.1.4 Command: /Library/Frameworks/R.framework/Resources/bin/R CMD INSTALL FLAMES StartedAt: 2025-02-03 16:00:03 -0500 (Mon, 03 Feb 2025) EndedAt: 2025-02-03 16:00:42 -0500 (Mon, 03 Feb 2025) EllapsedTime: 38.8 seconds RetCode: 0 Status: OK