Package: FLAMES Version: 2.1.4 Command: /home/biocbuild/R/R/bin/R CMD check --install=check:FLAMES.install-out.txt --library=/home/biocbuild/R/R/site-library --no-vignettes --timings FLAMES_2.1.4.tar.gz StartedAt: 2025-01-28 10:37:42 -0000 (Tue, 28 Jan 2025) EndedAt: 2025-01-28 10:48:04 -0000 (Tue, 28 Jan 2025) EllapsedTime: 622.6 seconds RetCode: 1 Status: ERROR CheckDir: FLAMES.Rcheck Warnings: NA