Package: FLAMES Version: 2.1.4 Command: rm -rf FLAMES.buildbin-libdir && mkdir FLAMES.buildbin-libdir && /Users/biocbuild/BBS/utils/build-universal.sh FLAMES_2.1.4.tar.gz /Library/Frameworks/R.framework/Resources/bin/R FLAMES.buildbin-libdir StartedAt: 2025-02-04 00:34:18 -0500 (Tue, 04 Feb 2025) EndedAt: 2025-02-04 00:36:51 -0500 (Tue, 04 Feb 2025) EllapsedTime: 152.6 seconds RetCode: 0 Status: OK PackageFile: FLAMES_2.1.4.tgz PackageFileSize: 5.025 MiB