Package: FLAMES Version: 2.1.5 Command: /Library/Frameworks/R.framework/Resources/bin/R CMD INSTALL FLAMES StartedAt: 2025-02-09 15:41:03 -0500 (Sun, 09 Feb 2025) EndedAt: 2025-02-09 15:43:18 -0500 (Sun, 09 Feb 2025) EllapsedTime: 135.1 seconds RetCode: 0 Status: OK