Package: FLAMES Version: 2.1.5 Command: /home/biocbuild/bbs-3.21-bioc/R/bin/R CMD build --keep-empty-dirs --no-resave-data FLAMES StartedAt: 2025-02-09 17:15:19 -0500 (Sun, 09 Feb 2025) EndedAt: 2025-02-09 17:18:14 -0500 (Sun, 09 Feb 2025) EllapsedTime: 174.3 seconds RetCode: 0 Status: OK PackageFile: FLAMES_2.1.5.tar.gz PackageFileSize: 3.865 MiB