Package: FLAMES Version: 2.1.5 Command: /home/biocbuild/bbs-3.21-bioc/R/bin/R CMD check --install=check:FLAMES.install-out.txt --library=/home/biocbuild/bbs-3.21-bioc/R/site-library --timings FLAMES_2.1.5.tar.gz StartedAt: 2025-02-09 22:20:18 -0500 (Sun, 09 Feb 2025) EndedAt: 2025-02-09 22:30:45 -0500 (Sun, 09 Feb 2025) EllapsedTime: 627.0 seconds RetCode: 0 Status: OK CheckDir: FLAMES.Rcheck Warnings: 0