Package: FRASER Version: 2.3.0 Command: /Library/Frameworks/R.framework/Resources/bin/R CMD build --keep-empty-dirs --no-resave-data FRASER StartedAt: 2025-02-09 16:21:36 -0500 (Sun, 09 Feb 2025) EndedAt: 2025-02-09 16:23:13 -0500 (Sun, 09 Feb 2025) EllapsedTime: 97.1 seconds RetCode: 0 Status: OK PackageFile: FRASER_2.3.0.tar.gz PackageFileSize: 2.353 MiB