Package: FRASER Version: 2.3.0 Command: /Library/Frameworks/R.framework/Resources/bin/R CMD INSTALL FRASER StartedAt: 2025-02-03 15:59:45 -0500 (Mon, 03 Feb 2025) EndedAt: 2025-02-03 16:00:13 -0500 (Mon, 03 Feb 2025) EllapsedTime: 28.2 seconds RetCode: 0 Status: OK