Package: FRASER Version: 2.3.0 Command: /home/biocbuild/R/R/bin/R CMD build --keep-empty-dirs --no-resave-data FRASER StartedAt: 2025-01-28 22:58:53 -0000 (Tue, 28 Jan 2025) EndedAt: 2025-01-28 23:05:24 -0000 (Tue, 28 Jan 2025) EllapsedTime: 390.2 seconds RetCode: 0 Status: OK PackageFile: FRASER_2.3.0.tar.gz PackageFileSize: 2.056 MiB