Package: FRASER Version: 2.3.0 Command: /home/biocbuild/R/R/bin/R CMD check --install=check:FRASER.install-out.txt --library=/home/biocbuild/R/R/site-library --no-vignettes --timings FRASER_2.3.0.tar.gz StartedAt: 2025-01-28 10:42:57 -0000 (Tue, 28 Jan 2025) EndedAt: 2025-01-28 11:04:32 -0000 (Tue, 28 Jan 2025) EllapsedTime: 1295.1 seconds RetCode: 0 Status: WARNINGS CheckDir: FRASER.Rcheck Warnings: 5