Package: FRASER Version: 2.3.0 Command: /home/biocbuild/R/R/bin/R CMD INSTALL FRASER StartedAt: 2025-01-29 20:28:13 -0000 (Wed, 29 Jan 2025) EndedAt: 2025-01-29 20:30:13 -0000 (Wed, 29 Jan 2025) EllapsedTime: 119.6 seconds RetCode: 0 Status: OK