Package: FRASER Version: 2.3.0 Command: /Library/Frameworks/R.framework/Resources/bin/R CMD check --install=check:FRASER.install-out.txt --library=/Library/Frameworks/R.framework/Resources/library --no-vignettes --timings FRASER_2.3.0.tar.gz StartedAt: 2025-02-03 20:36:20 -0500 (Mon, 03 Feb 2025) EndedAt: 2025-02-03 20:54:18 -0500 (Mon, 03 Feb 2025) EllapsedTime: 1077.4 seconds RetCode: 0 Status: OK CheckDir: FRASER.Rcheck Warnings: 0