Package: FRASER Version: 2.3.0 Command: /home/biocbuild/bbs-3.21-bioc/R/bin/R CMD build --keep-empty-dirs --no-resave-data FRASER StartedAt: 2025-02-09 17:17:38 -0500 (Sun, 09 Feb 2025) EndedAt: 2025-02-09 17:19:17 -0500 (Sun, 09 Feb 2025) EllapsedTime: 98.1 seconds RetCode: 1 Status: ERROR PackageFile: None PackageFileSize: NA