Package: FRASER Version: 2.3.0 Command: /home/biocbuild/bbs-3.21-bioc/R/bin/R CMD check --install=check:FRASER.install-out.txt --library=/home/biocbuild/bbs-3.21-bioc/R/site-library --timings FRASER_2.3.0.tar.gz StartedAt: 2025-01-21 22:17:54 -0500 (Tue, 21 Jan 2025) EndedAt: 2025-01-21 22:36:18 -0500 (Tue, 21 Jan 2025) EllapsedTime: 1104.4 seconds RetCode: 0 Status: OK CheckDir: FRASER.Rcheck Warnings: 0