Package: FRASER Version: 2.3.0 Command: chmod a+r FRASER -R && E:\biocbuild\bbs-3.21-bioc\R\bin\R.exe CMD build --keep-empty-dirs --no-resave-data FRASER StartedAt: 2025-02-09 18:46:40 -0500 (Sun, 09 Feb 2025) EndedAt: 2025-02-09 18:49:28 -0500 (Sun, 09 Feb 2025) EllapsedTime: 168.8 seconds RetCode: 1 Status: ERROR PackageFile: None PackageFileSize: NA