Package: FRASER Version: 2.3.0 Command: E:\biocbuild\bbs-3.21-bioc\R\bin\R.exe CMD check --no-multiarch --install=check:FRASER.install-out.txt --library=E:\biocbuild\bbs-3.21-bioc\R\library --no-vignettes --timings FRASER_2.3.0.tar.gz StartedAt: 2025-01-22 01:16:20 -0500 (Wed, 22 Jan 2025) EndedAt: 2025-01-22 01:35:31 -0500 (Wed, 22 Jan 2025) EllapsedTime: 1151.6 seconds RetCode: 0 Status: OK CheckDir: FRASER.Rcheck Warnings: 0