Package: FRGEpistasis Version: 1.43.0 Command: rm -rf FRGEpistasis.buildbin-libdir && mkdir FRGEpistasis.buildbin-libdir && /Users/biocbuild/BBS/utils/build-universal.sh FRGEpistasis_1.43.0.tar.gz /Library/Frameworks/R.framework/Resources/bin/R FRGEpistasis.buildbin-libdir StartedAt: 2025-02-04 22:16:43 -0500 (Tue, 04 Feb 2025) EndedAt: 2025-02-04 22:16:46 -0500 (Tue, 04 Feb 2025) EllapsedTime: 3.1 seconds RetCode: 0 Status: OK PackageFile: FRGEpistasis_1.43.0.tgz PackageFileSize: 397.8 KiB