Package: FRGEpistasis Version: 1.43.0 Command: /Library/Frameworks/R.framework/Resources/bin/R CMD INSTALL FRGEpistasis StartedAt: 2025-02-04 15:29:56 -0500 (Tue, 04 Feb 2025) EndedAt: 2025-02-04 15:29:59 -0500 (Tue, 04 Feb 2025) EllapsedTime: 3.1 seconds RetCode: 0 Status: OK