Package: FRGEpistasis Version: 1.43.0 Command: rm -rf FRGEpistasis.buildbin-libdir && mkdir FRGEpistasis.buildbin-libdir && /Users/biocbuild/BBS/utils/build-universal.sh FRGEpistasis_1.43.0.tar.gz /Library/Frameworks/R.framework/Resources/bin/R FRGEpistasis.buildbin-libdir StartedAt: 2025-02-10 00:54:10 -0500 (Mon, 10 Feb 2025) EndedAt: 2025-02-10 00:54:24 -0500 (Mon, 10 Feb 2025) EllapsedTime: 14.1 seconds RetCode: 0 Status: OK PackageFile: FRGEpistasis_1.43.0.tgz PackageFileSize: 396.9 KiB