Package: FRGEpistasis Version: 1.43.0 Command: /Library/Frameworks/R.framework/Resources/bin/R CMD check --install=check:FRGEpistasis.install-out.txt --library=/Library/Frameworks/R.framework/Resources/library --no-vignettes --timings FRGEpistasis_1.43.0.tar.gz StartedAt: 2025-02-04 20:34:39 -0500 (Tue, 04 Feb 2025) EndedAt: 2025-02-04 20:36:44 -0500 (Tue, 04 Feb 2025) EllapsedTime: 125.3 seconds RetCode: 0 Status: OK CheckDir: FRGEpistasis.Rcheck Warnings: 0