Package: FRGEpistasis Version: 1.43.0 Command: /home/biocbuild/bbs-3.21-bioc/R/bin/R CMD check --install=check:FRGEpistasis.install-out.txt --library=/home/biocbuild/bbs-3.21-bioc/R/site-library --timings FRGEpistasis_1.43.0.tar.gz StartedAt: 2025-02-09 22:24:47 -0500 (Sun, 09 Feb 2025) EndedAt: 2025-02-09 22:26:40 -0500 (Sun, 09 Feb 2025) EllapsedTime: 113.2 seconds RetCode: 0 Status: OK CheckDir: FRGEpistasis.Rcheck Warnings: 0