Package: FRGEpistasis Version: 1.43.0 Command: /home/biocbuild/bbs-3.21-bioc/R/bin/R CMD INSTALL FRGEpistasis StartedAt: 2025-02-04 15:06:58 -0500 (Tue, 04 Feb 2025) EndedAt: 2025-02-04 15:07:21 -0500 (Tue, 04 Feb 2025) EllapsedTime: 22.3 seconds RetCode: 0 Status: OK